BEGIN:VCALENDAR
X-LOTUS-CHARSET:UTF-8
VERSION:2.0
PRODID:-//unihamburg/mundry
METHOD:PUBLISH
BEGIN:VTIMEZONE
TZID:Europe/Berlin
X-LIC-LOCATION:Europe/Berlin
BEGIN:DAYLIGHT
TZOFFSETFROM:+0100
TZOFFSETTO:+0200
TZNAME:CEST
DTSTART:19700329T020000
RRULE:FREQ=YEARLY;INTERVAL=1;BYDAY=-1SU;BYMONTH=3
END:DAYLIGHT
BEGIN:STANDARD
TZOFFSETFROM:+0200
TZOFFSETTO:+0100
TZNAME:CET
DTSTART:19701025T030000
RRULE:FREQ=YEARLY;INTERVAL=1;BYDAY=-1SU;BYMONTH=10
END:STANDARD
END:VTIMEZONE
BEGIN:VEVENT
UID:133724
CLASS:PUBLIC
SUMMARY:Pre-Opening of the Exhibition
DTSTART;TZID=Europe/Berlin:20260428T170000
DTEND;TZID=Europe/Berlin:20260428T200000
DTSTAMP:20260421T1204Z
DESCRIPTION:To mark its 15th anniversary, the HCHE is presenting an exhibition on current research in health economics. The exhibition starts with a pre-opening event. Registration by invitation only. More information here: https://www.hche.uni-hamburg.de/en/ausstellung.html\n
LOCATION:HCHE, Esplanade 36, 20354 Hamburg, 
END:VEVENT
END:VCALENDAR
