BEGIN:VCALENDAR
X-LOTUS-CHARSET:UTF-8
VERSION:2.0
PRODID:-//unihamburg/mundry
METHOD:PUBLISH
BEGIN:VTIMEZONE
TZID:Europe/Berlin
X-LIC-LOCATION:Europe/Berlin
BEGIN:DAYLIGHT
TZOFFSETFROM:+0100
TZOFFSETTO:+0200
TZNAME:CEST
DTSTART:19700329T020000
RRULE:FREQ=YEARLY;INTERVAL=1;BYDAY=-1SU;BYMONTH=3
END:DAYLIGHT
BEGIN:STANDARD
TZOFFSETFROM:+0200
TZOFFSETTO:+0100
TZNAME:CET
DTSTART:19701025T030000
RRULE:FREQ=YEARLY;INTERVAL=1;BYDAY=-1SU;BYMONTH=10
END:STANDARD
END:VTIMEZONE
BEGIN:VEVENT
UID:133726
CLASS:PUBLIC
SUMMARY:Exhibition Opening 
DTSTART;TZID=Europe/Berlin:20260505T170000
DTEND;TZID=Europe/Berlin:20260505T200000
DTSTAMP:20260421T1204Z
DESCRIPTION:To mark its 15th anniversary, the HCHE presents an exhibition on current research in health economics\nOn May 5th the Official Grand Opening of the Exhibition takes place. We warmly invite stakeholders from the healthcare sector, academia, policy, and practice to join us for a vernissage.\nProgram of the Exhibition Opening\nTue, May 5, 2026\n5:00 PM Doors open5:20 PM Welcome remarks by Prof. Dr. Jonas Schreyögg, Scientific Director of the HCHE\nRemarks by:\nProf. Dr. Hauke Heekeren, President of the University of Hamburg, andProf. Dr. Blanche Schwappach-Pignataro, Dean of the Faculty of Medicine at the University Medical Center Hamburg-EppendorfIntroduction to the exhibition\nFollowed by: Tour of the exhibition &amp; get-together\n
LOCATION:HCHE, Esplanade 36, 20354 Hamburg, 
END:VEVENT
END:VCALENDAR
