BEGIN:VCALENDAR
X-LOTUS-CHARSET:UTF-8
VERSION:2.0
PRODID:-//unihamburg/mundry
METHOD:PUBLISH
BEGIN:VTIMEZONE
TZID:Europe/Berlin
X-LIC-LOCATION:Europe/Berlin
BEGIN:DAYLIGHT
TZOFFSETFROM:+0100
TZOFFSETTO:+0200
TZNAME:CEST
DTSTART:19700329T020000
RRULE:FREQ=YEARLY;INTERVAL=1;BYDAY=-1SU;BYMONTH=3
END:DAYLIGHT
BEGIN:STANDARD
TZOFFSETFROM:+0200
TZOFFSETTO:+0100
TZNAME:CET
DTSTART:19701025T030000
RRULE:FREQ=YEARLY;INTERVAL=1;BYDAY=-1SU;BYMONTH=10
END:STANDARD
END:VTIMEZONE
BEGIN:VEVENT
UID:133724
CLASS:PUBLIC
SUMMARY:Pre-Opening der Ausstellung
DTSTART;TZID=Europe/Berlin:20260428T170000
DTEND;TZID=Europe/Berlin:20260428T200000
DTSTAMP:20260425T2110Z
DESCRIPTION:Anlässlich seines 15-jährigen Bestehens zeigt das HCHE eine Ausstellung zu aktuellen Themen der gesundheitsökonomischen Forschung. Den Auftakt bildet das Pre-Opening der Ausstellung. Anmeldung nur auf Einladung. Weitere Informationen: https://www.hche.uni-hamburg.de/ausstellung.html\n
LOCATION:HCHE, Esplanade 36, 20354 Hamburg, 
END:VEVENT
END:VCALENDAR
