BEGIN:VCALENDAR
X-LOTUS-CHARSET:UTF-8
VERSION:2.0
PRODID:-//unihamburg/mundry
METHOD:PUBLISH
BEGIN:VTIMEZONE
TZID:Europe/Berlin
X-LIC-LOCATION:Europe/Berlin
BEGIN:DAYLIGHT
TZOFFSETFROM:+0100
TZOFFSETTO:+0200
TZNAME:CEST
DTSTART:19700329T020000
RRULE:FREQ=YEARLY;INTERVAL=1;BYDAY=-1SU;BYMONTH=3
END:DAYLIGHT
BEGIN:STANDARD
TZOFFSETFROM:+0200
TZOFFSETTO:+0100
TZNAME:CET
DTSTART:19701025T030000
RRULE:FREQ=YEARLY;INTERVAL=1;BYDAY=-1SU;BYMONTH=10
END:STANDARD
END:VTIMEZONE
BEGIN:VEVENT
UID:133726
CLASS:PUBLIC
SUMMARY: Ausstellungseröffnung 
DTSTART;TZID=Europe/Berlin:20260505T170000
DTEND;TZID=Europe/Berlin:20260505T200000
DTSTAMP:20260425T2110Z
DESCRIPTION:Anlässlich seines 15-jährigen Bestehens präsentiert das HCHE eine Ausstellung zu aktuellen Themen der gesundheitsökonomischen Forschung.\nAm 5. Mai 2026 findet die offizielle Eröffnung der Ausstellung statt. Hierzu laden wir Akteure aus Gesundheitswesen, Wissenschaft, Politik und Praxis herzlich zu einer Vernissage ein.\nProgramm der AusstellungseröffnungDienstag, 5. Mai 2026\n17:00 Uhr – Einlass17:20 Uhr – Begrüßung durch Prof. Dr. Jonas Schreyögg, Wissenschaftlicher Direktor des HCHE\nGrußworte von:\nProf. Dr. Hauke Heekeren, Präsident der Universität HamburgProf. Dr. Blanche Schwappach-Pignataro, Dekanin der Medizinischen Fakultät am Universitätsklinikum Hamburg-EppendorfAnschließend Einführung in die Ausstellung\nDanach: Rundgang durch die Ausstellung und Get-together\n
LOCATION:HCHE, Esplanade 36, 20354 Hamburg, 
END:VEVENT
END:VCALENDAR
